BEGIN:VCALENDAR
VERSION:2.0
PRODID:-//Bridging the Gap - ECPv6.15.11//NONSGML v1.0//EN
CALSCALE:GREGORIAN
METHOD:PUBLISH
X-WR-CALNAME:Bridging the Gap
X-ORIGINAL-URL:https://btgcommunity.org
X-WR-CALDESC:Events for Bridging the Gap
REFRESH-INTERVAL;VALUE=DURATION:PT1H
X-Robots-Tag:noindex
X-PUBLISHED-TTL:PT1H
BEGIN:VTIMEZONE
TZID:America/New_York
BEGIN:DAYLIGHT
TZOFFSETFROM:-0500
TZOFFSETTO:-0400
TZNAME:EDT
DTSTART:20240310T070000
END:DAYLIGHT
BEGIN:STANDARD
TZOFFSETFROM:-0400
TZOFFSETTO:-0500
TZNAME:EST
DTSTART:20241103T060000
END:STANDARD
BEGIN:DAYLIGHT
TZOFFSETFROM:-0500
TZOFFSETTO:-0400
TZNAME:EDT
DTSTART:20250309T070000
END:DAYLIGHT
BEGIN:STANDARD
TZOFFSETFROM:-0400
TZOFFSETTO:-0500
TZNAME:EST
DTSTART:20251102T060000
END:STANDARD
BEGIN:DAYLIGHT
TZOFFSETFROM:-0500
TZOFFSETTO:-0400
TZNAME:EDT
DTSTART:20260308T070000
END:DAYLIGHT
BEGIN:STANDARD
TZOFFSETFROM:-0400
TZOFFSETTO:-0500
TZNAME:EST
DTSTART:20261101T060000
END:STANDARD
END:VTIMEZONE
BEGIN:VEVENT
DTSTART;TZID=America/New_York:20251015T170000
DTEND;TZID=America/New_York:20251015T190000
DTSTAMP:20260422T170508
CREATED:20250926T171609Z
LAST-MODIFIED:20250926T171626Z
UID:1709-1760547600-1760554800@btgcommunity.org
SUMMARY:Weekly General Food Distribution -  Wednessday
DESCRIPTION:Weekly drive-through food distribution every Wednesday from 5:oo pm to 7:00 pm. Families are eligible to receive groceries and essentials once every seven days\, with volunteers loading items directly into your car.
URL:https://btgcommunity.org/event/weekly-general-food-distribution-wednessday-15/
LOCATION:Bridging the Gap\, 19 1st Ave.\, Newnan\, GA\, 30263\, United States
CATEGORIES:Food Distribution
ATTACH;FMTTYPE=image/png:https://btgcommunity.org/wp-content/uploads/2025/09/1-1.png
ORGANIZER;CN="Bridging the Gap":MAILTO:info@btgcommunity.org
END:VEVENT
BEGIN:VEVENT
DTSTART;TZID=America/New_York:20251008T170000
DTEND;TZID=America/New_York:20251008T190000
DTSTAMP:20260422T170508
CREATED:20250912T155750Z
LAST-MODIFIED:20250912T155750Z
UID:1361-1759942800-1759950000@btgcommunity.org
SUMMARY:Weekly General Food Distribution -  Wednessday
DESCRIPTION:Weekly drive-through food distribution every Wednesday from 5:oo pm to 7:00 pm. Families are eligible to receive groceries and essentials once every seven days\, with volunteers loading items directly into your car.
URL:https://btgcommunity.org/event/weekly-general-food-distribution-wednessday-8/
LOCATION:Bridging the Gap\, 19 1st Ave.\, Newnan\, GA\, 30263\, United States
CATEGORIES:Food Distribution
ATTACH;FMTTYPE=image/png:https://btgcommunity.org/wp-content/uploads/2025/09/1-1.png
ORGANIZER;CN="Bridging the Gap":MAILTO:info@btgcommunity.org
END:VEVENT
BEGIN:VEVENT
DTSTART;TZID=America/New_York:20251004T080000
DTEND;TZID=America/New_York:20251004T130000
DTSTAMP:20260422T170508
CREATED:20250910T214526Z
LAST-MODIFIED:20250910T214531Z
UID:1130-1759564800-1759582800@btgcommunity.org
SUMMARY:Weekly General Food Distribution -  Saturdays
DESCRIPTION:Weekly drive-through food distribution every Saturday from 8:00 am to 11:00 am. Families are eligible to receive groceries and essentials once every seven days\, with volunteers loading items directly into your car.
URL:https://btgcommunity.org/event/weekly-general-food-distribution-saturdays/
LOCATION:Bridging the Gap\, 19 1st Ave.\, Newnan\, GA\, 30263\, United States
CATEGORIES:Food Distribution
ATTACH;FMTTYPE=image/png:https://btgcommunity.org/wp-content/uploads/2025/09/1-1.png
ORGANIZER;CN="Bridging the Gap":MAILTO:info@btgcommunity.org
END:VEVENT
BEGIN:VEVENT
DTSTART;TZID=America/New_York:20251001T170000
DTEND;TZID=America/New_York:20251001T190000
DTSTAMP:20260422T170508
CREATED:20250912T155709Z
LAST-MODIFIED:20250912T155709Z
UID:1359-1759338000-1759345200@btgcommunity.org
SUMMARY:Weekly General Food Distribution -  Wednessday
DESCRIPTION:Weekly drive-through food distribution every Wednesday from 5:oo pm to 7:00 pm. Families are eligible to receive groceries and essentials once every seven days\, with volunteers loading items directly into your car.
URL:https://btgcommunity.org/event/weekly-general-food-distribution-wednessday-1/
LOCATION:Bridging the Gap\, 19 1st Ave.\, Newnan\, GA\, 30263\, United States
CATEGORIES:Food Distribution
ATTACH;FMTTYPE=image/png:https://btgcommunity.org/wp-content/uploads/2025/09/1-1.png
ORGANIZER;CN="Bridging the Gap":MAILTO:info@btgcommunity.org
END:VEVENT
BEGIN:VEVENT
DTSTART;TZID=America/New_York:20251001T120000
DTEND;TZID=America/New_York:20251001T150000
DTSTAMP:20260422T170508
CREATED:20250911T182539Z
LAST-MODIFIED:20250912T154840Z
UID:1149-1759320000-1759330800@btgcommunity.org
SUMMARY:Weekly Senior Food Distribution - Wednesday
DESCRIPTION:Weekly drive-through senior food distribution every Wednesday from 12:00 pm to 3:00 pm. Seniors 55 and older are eligible to receive groceries and essentials once every seven days\, with volunteers loading items directly into your car \n  \nIn addition\, we provide:  shower and laundry facilities\, Case management and referral services\, & household goods \n 
URL:https://btgcommunity.org/event/weekly-senior-food-distribution-wednesday-2/
LOCATION:Bridging the Gap\, 19 1st Ave.\, Newnan\, GA\, 30263\, United States
CATEGORIES:Food Distribution,Seniors
ATTACH;FMTTYPE=image/png:https://btgcommunity.org/wp-content/uploads/2025/09/1-1.png
ORGANIZER;CN="Bridging the Gap":MAILTO:info@btgcommunity.org
END:VEVENT
BEGIN:VEVENT
DTSTART;TZID=America/New_York:20250927T080000
DTEND;TZID=America/New_York:20250927T130000
DTSTAMP:20260422T170508
CREATED:20250910T214405Z
LAST-MODIFIED:20250910T214502Z
UID:1126-1758960000-1758978000@btgcommunity.org
SUMMARY:Weekly General Food Distribution -  Saturdays
DESCRIPTION:Weekly drive-through food distribution every Saturday from 8:00 am to 11:00 am. Families are eligible to receive groceries and essentials once every seven days\, with volunteers loading items directly into your car.
URL:https://btgcommunity.org/event/weekly-food-distribution-saturdays-copy-2/
LOCATION:Bridging the Gap\, 19 1st Ave.\, Newnan\, GA\, 30263\, United States
CATEGORIES:Food Distribution
ATTACH;FMTTYPE=image/png:https://btgcommunity.org/wp-content/uploads/2025/09/1-1.png
ORGANIZER;CN="Bridging the Gap":MAILTO:info@btgcommunity.org
END:VEVENT
BEGIN:VEVENT
DTSTART;TZID=America/New_York:20250924T170000
DTEND;TZID=America/New_York:20250924T190000
DTSTAMP:20260422T170508
CREATED:20250912T155610Z
LAST-MODIFIED:20250912T155624Z
UID:1357-1758733200-1758740400@btgcommunity.org
SUMMARY:Weekly General Food Distribution -  Wednessday
DESCRIPTION:Weekly drive-through food distribution every Wednesday from 5:oo pm to 7:00 pm. Families are eligible to receive groceries and essentials once every seven days\, with volunteers loading items directly into your car.
URL:https://btgcommunity.org/event/weekly-general-food-distribution-wednessday-24/
LOCATION:Bridging the Gap\, 19 1st Ave.\, Newnan\, GA\, 30263\, United States
CATEGORIES:Food Distribution
ATTACH;FMTTYPE=image/png:https://btgcommunity.org/wp-content/uploads/2025/09/1-1.png
ORGANIZER;CN="Bridging the Gap":MAILTO:info@btgcommunity.org
END:VEVENT
BEGIN:VEVENT
DTSTART;TZID=America/New_York:20250924T120000
DTEND;TZID=America/New_York:20250924T150000
DTSTAMP:20260422T170508
CREATED:20250911T182436Z
LAST-MODIFIED:20250912T154820Z
UID:1146-1758715200-1758726000@btgcommunity.org
SUMMARY:Weekly Senior Food Distribution - Wednesday
DESCRIPTION:Weekly drive-through senior food distribution every Wednesday from 12:00 pm to 3:00 pm. Seniors 55 and older are eligible to receive groceries and essentials once every seven days\, with volunteers loading items directly into your car \n  \nIn addition\, we provide:  shower and laundry facilities\, Case management and referral services\, & household goods \n 
URL:https://btgcommunity.org/event/weekly-senior-food-distribution-wednesday1/
LOCATION:Bridging the Gap\, 19 1st Ave.\, Newnan\, GA\, 30263\, United States
CATEGORIES:Food Distribution,Seniors
ATTACH;FMTTYPE=image/png:https://btgcommunity.org/wp-content/uploads/2025/09/1-1.png
ORGANIZER;CN="Bridging the Gap":MAILTO:info@btgcommunity.org
END:VEVENT
BEGIN:VEVENT
DTSTART;TZID=America/New_York:20250920T080000
DTEND;TZID=America/New_York:20250920T130000
DTSTAMP:20260422T170508
CREATED:20250910T212953Z
LAST-MODIFIED:20250910T214337Z
UID:1117-1758355200-1758373200@btgcommunity.org
SUMMARY:Weekly Food Distribution -  Saturdays
DESCRIPTION:Weekly drive-through food distribution every Saturday from 8:00 am to 11:00 am. Families are eligible to receive groceries and essentials once every seven days\, with volunteers loading items directly into your car.
URL:https://btgcommunity.org/event/weekly-food-distribution-saturdays-copy/
LOCATION:Bridging the Gap\, 19 1st Ave.\, Newnan\, GA\, 30263\, United States
CATEGORIES:Food Distribution
ATTACH;FMTTYPE=image/png:https://btgcommunity.org/wp-content/uploads/2025/09/1-1.png
ORGANIZER;CN="Bridging the Gap":MAILTO:info@btgcommunity.org
END:VEVENT
BEGIN:VEVENT
DTSTART;TZID=America/New_York:20250917T170000
DTEND;TZID=America/New_York:20250917T190000
DTSTAMP:20260422T170508
CREATED:20250912T155419Z
LAST-MODIFIED:20250912T155514Z
UID:1355-1758128400-1758135600@btgcommunity.org
SUMMARY:Weekly General Food Distribution -  Wednessday
DESCRIPTION:Weekly drive-through food distribution every Wednesday from 5:oo pm to 7:00 pm. Families are eligible to receive groceries and essentials once every seven days\, with volunteers loading items directly into your car.
URL:https://btgcommunity.org/event/weekly-general-food-distribution-wednessday/
LOCATION:Bridging the Gap\, 19 1st Ave.\, Newnan\, GA\, 30263\, United States
CATEGORIES:Food Distribution
ATTACH;FMTTYPE=image/png:https://btgcommunity.org/wp-content/uploads/2025/09/1-1.png
ORGANIZER;CN="Bridging the Gap":MAILTO:info@btgcommunity.org
END:VEVENT
BEGIN:VEVENT
DTSTART;TZID=America/New_York:20250917T120000
DTEND;TZID=America/New_York:20250917T150000
DTSTAMP:20260422T170508
CREATED:20250910T231425Z
LAST-MODIFIED:20250912T154914Z
UID:1133-1758110400-1758121200@btgcommunity.org
SUMMARY:Weekly Senior Food Distribution - Wednesday
DESCRIPTION:Weekly drive-through senior food distribution every Wednesday from 12:00 pm to 3:00 pm. Seniors 55 and older are eligible to receive groceries and essentials once every seven days\, with volunteers loading items directly into your car \n  \nIn addition\, we provide:  shower and laundry facilities\, Case management and referral services\, & household goods \n  \n 
URL:https://btgcommunity.org/event/weekly-senior-food-distribution/
LOCATION:Bridging the Gap\, 19 1st Ave.\, Newnan\, GA\, 30263\, United States
CATEGORIES:Food Distribution,Seniors
ATTACH;FMTTYPE=image/png:https://btgcommunity.org/wp-content/uploads/2025/09/1-1.png
ORGANIZER;CN="Bridging the Gap":MAILTO:info@btgcommunity.org
END:VEVENT
BEGIN:VEVENT
DTSTART;TZID=America/New_York:20250913T080000
DTEND;TZID=America/New_York:20250913T130000
DTSTAMP:20260422T170508
CREATED:20250910T212238Z
LAST-MODIFIED:20250910T214731Z
UID:1108-1757750400-1757768400@btgcommunity.org
SUMMARY:Weekly General Food Distribution -  Saturdays
DESCRIPTION:Weekly drive-through food distribution every Saturday from 8:00 am to 11:00 am. Families are eligible to receive groceries and essentials once every seven days\, with volunteers loading items directly into your car.
URL:https://btgcommunity.org/event/weekly-food-distribution/
LOCATION:Bridging the Gap\, 19 1st Ave.\, Newnan\, GA\, 30263\, United States
CATEGORIES:Food Distribution
ATTACH;FMTTYPE=image/png:https://btgcommunity.org/wp-content/uploads/2025/09/1-1.png
ORGANIZER;CN="Bridging the Gap":MAILTO:info@btgcommunity.org
END:VEVENT
END:VCALENDAR